BEGIN:VCALENDAR
VERSION:2.0
PRODID:-//Lucky Lizard Tap House - ECPv6.15.18//NONSGML v1.0//EN
CALSCALE:GREGORIAN
METHOD:PUBLISH
X-ORIGINAL-URL:https://luckylizardtaphouse.com
X-WR-CALDESC:Events for Lucky Lizard Tap House
REFRESH-INTERVAL;VALUE=DURATION:PT1H
X-Robots-Tag:noindex
X-PUBLISHED-TTL:PT1H
BEGIN:VTIMEZONE
TZID:UTC
BEGIN:STANDARD
TZOFFSETFROM:+0000
TZOFFSETTO:+0000
TZNAME:UTC
DTSTART:20210101T000000
END:STANDARD
END:VTIMEZONE
BEGIN:VEVENT
DTSTART;TZID=UTC:20221101T110000
DTEND;TZID=UTC:20221101T235900
DTSTAMP:20260420T212930
CREATED:20221030T100624Z
LAST-MODIFIED:20221030T101435Z
UID:2549-1667300400-1667347140@luckylizardtaphouse.com
SUMMARY:Taco Tuesday
DESCRIPTION:Every Tuesday is Taco Tuesday at THE LIZARD! Taco and Margarita specials all day!
URL:https://luckylizardtaphouse.com/live-music/taco-tuesday/
LOCATION:Lucky Lizard Tap House\, 14953 #A Gulf Blvd\, Madeira Beach\, FL\, 33708\, United States
ATTACH;FMTTYPE=image/png:https://luckylizardtaphouse.com/wp-content/uploads/2022/10/taco-tuesday-06.png
END:VEVENT
BEGIN:VEVENT
DTSTART;TZID=UTC:20230425T180000
DTEND;TZID=UTC:20230425T220000
DTSTAMP:20260420T212930
CREATED:20230417T141432Z
LAST-MODIFIED:20230417T141432Z
UID:3027-1682445600-1682460000@luckylizardtaphouse.com
SUMMARY:Taco Tuesday Karaoke Party
DESCRIPTION:We’re celebrating Taco Tuesday at Lucky Lizard w/ Taco & Margarita specials and a Karaoke Party starting at 6 pm!
URL:https://luckylizardtaphouse.com/live-music/taco-tuesday-karaoke-party-2/
LOCATION:Lucky Lizard Tap House\, 14953 #A Gulf Blvd\, Madeira Beach\, FL\, 33708\, United States
ATTACH;FMTTYPE=image/png:https://luckylizardtaphouse.com/wp-content/uploads/2023/03/karaoke-party-06.png
END:VEVENT
END:VCALENDAR