BEGIN:VCALENDAR
VERSION:2.0
PRODID:-//Lucky Lizard Tap House - ECPv6.15.18//NONSGML v1.0//EN
CALSCALE:GREGORIAN
METHOD:PUBLISH
X-WR-CALNAME:Lucky Lizard Tap House
X-ORIGINAL-URL:https://luckylizardtaphouse.com
X-WR-CALDESC:Events for Lucky Lizard Tap House
REFRESH-INTERVAL;VALUE=DURATION:PT1H
X-Robots-Tag:noindex
X-PUBLISHED-TTL:PT1H
BEGIN:VTIMEZONE
TZID:UTC
BEGIN:STANDARD
TZOFFSETFROM:+0000
TZOFFSETTO:+0000
TZNAME:UTC
DTSTART:20210101T000000
END:STANDARD
END:VTIMEZONE
BEGIN:VEVENT
DTSTART;TZID=UTC:20220702T180000
DTEND;TZID=UTC:20220702T220000
DTSTAMP:20260419T145757
CREATED:20220608T210117Z
LAST-MODIFIED:20220608T210117Z
UID:2247-1656784800-1656799200@luckylizardtaphouse.com
SUMMARY:Live Music with Ryan Marchand
DESCRIPTION:Join us at your Luck Lizard in Madeira Beach for live music with Jamie Crabtree beginning at 2 pm. \nOur Menu 🌮 \nMENU \n \nLucky Lizard Tap House\n(727)-954-8618
URL:https://luckylizardtaphouse.com/live-music/live-music-with-ryan-marchand-2/
LOCATION:Lucky Lizard Tap House\, 14953 #A Gulf Blvd\, Madeira Beach\, FL\, 33708\, United States
ATTACH;FMTTYPE=image/jpeg:https://luckylizardtaphouse.com/wp-content/uploads/2022/01/ryan-manchard-fb-post.jpg
END:VEVENT
BEGIN:VEVENT
DTSTART;TZID=UTC:20220703T140000
DTEND;TZID=UTC:20220703T180000
DTSTAMP:20260419T145757
CREATED:20220608T210327Z
LAST-MODIFIED:20220608T210327Z
UID:2249-1656856800-1656871200@luckylizardtaphouse.com
SUMMARY:Live Music with Jamie Crabtree
DESCRIPTION:Join us at your Luck Lizard in Madeira Beach for live music with Jamie Crabtree beginning at 2 pm. \nOur Menu 🌮 \nMENU \n \nLucky Lizard Tap House\n(727)-954-8618
URL:https://luckylizardtaphouse.com/live-music/live-music-with-jamie-crabtree-2/
LOCATION:Lucky Lizard Tap House\, 14953 #A Gulf Blvd\, Madeira Beach\, FL\, 33708\, United States
ATTACH;FMTTYPE=image/jpeg:https://luckylizardtaphouse.com/wp-content/uploads/2022/06/james-crabtree-jam-c-fb.jpeg
END:VEVENT
BEGIN:VEVENT
DTSTART;TZID=UTC:20220704T160000
DTEND;TZID=UTC:20220704T200000
DTSTAMP:20260419T145757
CREATED:20220608T210530Z
LAST-MODIFIED:20220627T103335Z
UID:2252-1656950400-1656964800@luckylizardtaphouse.com
SUMMARY:Live Music with Louie
DESCRIPTION:Join us at your Luck Lizard in Madeira Beach for live music with Louie beginning at 4 pm. \nOur Menu 🌮 \nMENU \n \nLucky Lizard Tap House\n(727)-954-8618
URL:https://luckylizardtaphouse.com/live-music/live-music-with-louie-3/
LOCATION:Lucky Lizard Tap House\, 14953 #A Gulf Blvd\, Madeira Beach\, FL\, 33708\, United States
ATTACH;FMTTYPE=image/jpeg:https://luckylizardtaphouse.com/wp-content/uploads/2022/01/fred-shreds-fb.jpg
END:VEVENT
BEGIN:VEVENT
DTSTART;TZID=UTC:20220708T190000
DTEND;TZID=UTC:20220708T230000
DTSTAMP:20260419T145757
CREATED:20220608T210709Z
LAST-MODIFIED:20220608T210709Z
UID:2254-1657306800-1657321200@luckylizardtaphouse.com
SUMMARY:Live Music with Seth Campbell
DESCRIPTION:Join us at your Luck Lizard in Madeira Beach for live music with Seth Campbell beginning at 7 pm. \nOur Menu 🌮 \nMENU \n \nLucky Lizard Tap House\n(727)-954-8618
URL:https://luckylizardtaphouse.com/live-music/live-music-with-seth-campbell-4/
LOCATION:Lucky Lizard Tap House\, 14953 #A Gulf Blvd\, Madeira Beach\, FL\, 33708\, United States
ATTACH;FMTTYPE=image/jpeg:https://luckylizardtaphouse.com/wp-content/uploads/2022/02/seth-campbell-fb-1.jpeg
END:VEVENT
BEGIN:VEVENT
DTSTART;TZID=UTC:20220715T190000
DTEND;TZID=UTC:20220715T230000
DTSTAMP:20260419T145757
CREATED:20220608T210832Z
LAST-MODIFIED:20220608T210832Z
UID:2256-1657911600-1657926000@luckylizardtaphouse.com
SUMMARY:Live Music with Chris Dupre
DESCRIPTION:Join us at your Luck Lizard in Madeira Beach for live music with Chris Dupre beginning at 7 pm. \nOur Menu 🌮 \nMENU \n \nLucky Lizard Tap House\n(727)-954-8618
URL:https://luckylizardtaphouse.com/live-music/live-music-with-chris-dupre-5/
LOCATION:Lucky Lizard Tap House\, 14953 #A Gulf Blvd\, Madeira Beach\, FL\, 33708\, United States
ATTACH;FMTTYPE=image/jpeg:https://luckylizardtaphouse.com/wp-content/uploads/2022/06/chris-dupre.jpeg
END:VEVENT
BEGIN:VEVENT
DTSTART;TZID=UTC:20220716T190000
DTEND;TZID=UTC:20220716T230000
DTSTAMP:20260419T145757
CREATED:20220608T211009Z
LAST-MODIFIED:20220608T211009Z
UID:2258-1657998000-1658012400@luckylizardtaphouse.com
SUMMARY:Live Music with Larry Mott
DESCRIPTION:Join us at your Madeira Beach Luck Lizard Tap House for live music with Larry Mott beginning at 7 pm. \nOur Menu 🍽️ \nMENU \n \nLucky Lizard Tap House\n(727)-954-8618
URL:https://luckylizardtaphouse.com/live-music/live-music-with-larry-mott-13/
LOCATION:Lucky Lizard Tap House\, 14953 #A Gulf Blvd\, Madeira Beach\, FL\, 33708\, United States
ATTACH;FMTTYPE=image/jpeg:https://luckylizardtaphouse.com/wp-content/uploads/2022/06/larry-mott-fb.jpg
END:VEVENT
BEGIN:VEVENT
DTSTART;TZID=UTC:20220722T190000
DTEND;TZID=UTC:20220722T230000
DTSTAMP:20260419T145757
CREATED:20220608T211801Z
LAST-MODIFIED:20220608T211801Z
UID:2260-1658516400-1658530800@luckylizardtaphouse.com
SUMMARY:Live Music with Hanah Liz
DESCRIPTION:Join us at your Madeira Beach Luck Lizard Tap House for live music with Hanah Liz beginning at 7 pm. \nOur Menu 🍽️ \nMENU \n \nLucky Lizard Tap House\n(727)-954-8618
URL:https://luckylizardtaphouse.com/live-music/live-music-with-hanah-liz-3/
LOCATION:Lucky Lizard Tap House\, 14953 #A Gulf Blvd\, Madeira Beach\, FL\, 33708\, United States
ATTACH;FMTTYPE=image/png:https://luckylizardtaphouse.com/wp-content/uploads/2022/06/hanah-liz-fb.png
END:VEVENT
BEGIN:VEVENT
DTSTART;TZID=UTC:20220730T190000
DTEND;TZID=UTC:20220730T230000
DTSTAMP:20260419T145757
CREATED:20220608T212116Z
LAST-MODIFIED:20220608T212116Z
UID:2264-1659207600-1659222000@luckylizardtaphouse.com
SUMMARY:Live Music with Larry Mott
DESCRIPTION:Join us at your Madeira Beach Luck Lizard Tap House for live music with Larry Mott beginning at 7 pm. \nOur Menu 🍽️ \nMENU \n \nLucky Lizard Tap House\n(727)-954-8618
URL:https://luckylizardtaphouse.com/live-music/live-music-with-larry-mott-14/
LOCATION:Lucky Lizard Tap House\, 14953 #A Gulf Blvd\, Madeira Beach\, FL\, 33708\, United States
ATTACH;FMTTYPE=image/jpeg:https://luckylizardtaphouse.com/wp-content/uploads/2022/06/larry-mott-fb.jpg
END:VEVENT
END:VCALENDAR