BEGIN:VCALENDAR
VERSION:2.0
PRODID:-//Lucky Lizard Tap House - ECPv6.15.18//NONSGML v1.0//EN
CALSCALE:GREGORIAN
METHOD:PUBLISH
X-WR-CALNAME:Lucky Lizard Tap House
X-ORIGINAL-URL:https://luckylizardtaphouse.com
X-WR-CALDESC:Events for Lucky Lizard Tap House
REFRESH-INTERVAL;VALUE=DURATION:PT1H
X-Robots-Tag:noindex
X-PUBLISHED-TTL:PT1H
BEGIN:VTIMEZONE
TZID:UTC
BEGIN:STANDARD
TZOFFSETFROM:+0000
TZOFFSETTO:+0000
TZNAME:UTC
DTSTART:20210101T000000
END:STANDARD
END:VTIMEZONE
BEGIN:VEVENT
DTSTART;TZID=UTC:20220610T190000
DTEND;TZID=UTC:20220610T230000
DTSTAMP:20260419T213138
CREATED:20220608T204745Z
LAST-MODIFIED:20220608T204745Z
UID:2231-1654887600-1654902000@luckylizardtaphouse.com
SUMMARY:Live Music with The Kellys
DESCRIPTION:Join us at your Luck Lizard in Madeira Beach for live music with The Kelly’s beginning at 7 pm. \nOur Menu 🌮 \nMENU \n \nLucky Lizard Tap House\n(727)-954-8618
URL:https://luckylizardtaphouse.com/live-music/live-music-with-the-kellys/
LOCATION:Lucky Lizard Tap House\, 14953 #A Gulf Blvd\, Madeira Beach\, FL\, 33708\, United States
ATTACH;FMTTYPE=image/jpeg:https://luckylizardtaphouse.com/wp-content/uploads/2022/06/kellys.jpeg
END:VEVENT
BEGIN:VEVENT
DTSTART;TZID=UTC:20220611T190000
DTEND;TZID=UTC:20220611T230000
DTSTAMP:20260419T213138
CREATED:20220608T205014Z
LAST-MODIFIED:20220608T205014Z
UID:2234-1654974000-1654988400@luckylizardtaphouse.com
SUMMARY:Live Music with Hanah Liz
DESCRIPTION:Join us at your Madeira Beach Luck Lizard Tap House for live music with Hanah Liz beginning at 7 pm. \nOur Menu 🍽️ \nMENU \n \nLucky Lizard Tap House\n(727)-954-8618
URL:https://luckylizardtaphouse.com/live-music/live-music-with-hanah-liz-2/
LOCATION:Lucky Lizard Tap House\, 14953 #A Gulf Blvd\, Madeira Beach\, FL\, 33708\, United States
ATTACH;FMTTYPE=image/png:https://luckylizardtaphouse.com/wp-content/uploads/2022/06/hanah-liz-fb.png
END:VEVENT
BEGIN:VEVENT
DTSTART;TZID=UTC:20220617T190000
DTEND;TZID=UTC:20220617T230000
DTSTAMP:20260419T213138
CREATED:20220608T205207Z
LAST-MODIFIED:20220608T205207Z
UID:2237-1655492400-1655506800@luckylizardtaphouse.com
SUMMARY:Live Music with Chris Dupre
DESCRIPTION:Join us at your Luck Lizard in Madeira Beach for live music with Chris Dupre beginning at 7 pm. \nOur Menu 🌮 \nMENU \n \nLucky Lizard Tap House\n(727)-954-8618
URL:https://luckylizardtaphouse.com/live-music/live-music-with-chris-dupre-4/
LOCATION:Lucky Lizard Tap House\, 14953 #A Gulf Blvd\, Madeira Beach\, FL\, 33708\, United States
ATTACH;FMTTYPE=image/jpeg:https://luckylizardtaphouse.com/wp-content/uploads/2022/06/chris-dupre.jpeg
END:VEVENT
BEGIN:VEVENT
DTSTART;TZID=UTC:20220618T190000
DTEND;TZID=UTC:20220618T230000
DTSTAMP:20260419T213138
CREATED:20220608T205358Z
LAST-MODIFIED:20220608T205358Z
UID:2240-1655578800-1655593200@luckylizardtaphouse.com
SUMMARY:Live Music with Larry Mott
DESCRIPTION:Join us at your Madeira Beach Luck Lizard Tap House for live music with Larry Mott beginning at 7 pm. \nOur Menu 🍽️ \nMENU \n \nLucky Lizard Tap House\n(727)-954-8618
URL:https://luckylizardtaphouse.com/live-music/live-music-with-larry-mott-11/
LOCATION:Lucky Lizard Tap House\, 14953 #A Gulf Blvd\, Madeira Beach\, FL\, 33708\, United States
ATTACH;FMTTYPE=image/jpeg:https://luckylizardtaphouse.com/wp-content/uploads/2022/06/larry-mott-fb.jpg
END:VEVENT
BEGIN:VEVENT
DTSTART;TZID=UTC:20220624T190000
DTEND;TZID=UTC:20220624T230000
DTSTAMP:20260419T213138
CREATED:20220608T205541Z
LAST-MODIFIED:20220608T205541Z
UID:2243-1656097200-1656111600@luckylizardtaphouse.com
SUMMARY:Live Music with Larry Mott
DESCRIPTION:Join us at your Madeira Beach Luck Lizard Tap House for live music with Larry Mott beginning at 7 pm. \nOur Menu 🍽️ \nMENU \n \nLucky Lizard Tap House\n(727)-954-8618
URL:https://luckylizardtaphouse.com/live-music/live-music-with-larry-mott-12/
LOCATION:Lucky Lizard Tap House\, 14953 #A Gulf Blvd\, Madeira Beach\, FL\, 33708\, United States
ATTACH;FMTTYPE=image/jpeg:https://luckylizardtaphouse.com/wp-content/uploads/2022/06/larry-mott-fb.jpg
END:VEVENT
BEGIN:VEVENT
DTSTART;TZID=UTC:20220625T190000
DTEND;TZID=UTC:20220625T230000
DTSTAMP:20260419T213138
CREATED:20220608T205908Z
LAST-MODIFIED:20220608T205908Z
UID:2245-1656183600-1656198000@luckylizardtaphouse.com
SUMMARY:Live Music with Seth Campbell
DESCRIPTION:Join us at your Luck Lizard in Madeira Beach for live music with Seth Campbell beginning at 7 pm. \nOur Menu 🌮 \nMENU \n \nLucky Lizard Tap House\n(727)-954-8618
URL:https://luckylizardtaphouse.com/live-music/live-music-with-seth-campbell-3/
LOCATION:Lucky Lizard Tap House\, 14953 #A Gulf Blvd\, Madeira Beach\, FL\, 33708\, United States
ATTACH;FMTTYPE=image/jpeg:https://luckylizardtaphouse.com/wp-content/uploads/2022/02/seth-campbell-fb-1.jpeg
END:VEVENT
END:VCALENDAR