BEGIN:VCALENDAR
VERSION:2.0
PRODID:-//Lucky Lizard Tap House - ECPv6.15.18//NONSGML v1.0//EN
CALSCALE:GREGORIAN
METHOD:PUBLISH
X-ORIGINAL-URL:https://luckylizardtaphouse.com
X-WR-CALDESC:Events for Lucky Lizard Tap House
REFRESH-INTERVAL;VALUE=DURATION:PT1H
X-Robots-Tag:noindex
X-PUBLISHED-TTL:PT1H
BEGIN:VTIMEZONE
TZID:UTC
BEGIN:STANDARD
TZOFFSETFROM:+0000
TZOFFSETTO:+0000
TZNAME:UTC
DTSTART:20210101T000000
END:STANDARD
END:VTIMEZONE
BEGIN:VEVENT
DTSTART;TZID=UTC:20221225T150000
DTEND;TZID=UTC:20221225T230000
DTSTAMP:20260420T034801
CREATED:20221130T164309Z
LAST-MODIFIED:20221130T164309Z
UID:2726-1671980400-1672009200@luckylizardtaphouse.com
SUMMARY:Merry Christmas Opening at 3 pm
DESCRIPTION:Merry Christmas from the Lucky Lizard family to you and yours! We open at 3 pm today! \nMenu 👉🏽 https://luckylizardtaphouse.com/menu/ \nDrink menu 👉🏽 https://luckylizardtaphouse.com/drinks/ \nLucky Lizard Tap House\n(727)-954-8618
URL:https://luckylizardtaphouse.com/live-music/merry-christmas-opening-at-3-pm/
LOCATION:Lucky Lizard Tap House\, 14953 #A Gulf Blvd\, Madeira Beach\, FL\, 33708\, United States
ATTACH;FMTTYPE=image/jpeg:https://luckylizardtaphouse.com/wp-content/uploads/2022/06/madeira-beach-restaurants.jpg
END:VEVENT
END:VCALENDAR