BEGIN:VCALENDAR
VERSION:2.0
PRODID:-//Lucky Lizard Tap House - ECPv6.15.18//NONSGML v1.0//EN
CALSCALE:GREGORIAN
METHOD:PUBLISH
X-ORIGINAL-URL:https://luckylizardtaphouse.com
X-WR-CALDESC:Events for Lucky Lizard Tap House
REFRESH-INTERVAL;VALUE=DURATION:PT1H
X-Robots-Tag:noindex
X-PUBLISHED-TTL:PT1H
BEGIN:VTIMEZONE
TZID:UTC
BEGIN:STANDARD
TZOFFSETFROM:+0000
TZOFFSETTO:+0000
TZNAME:UTC
DTSTART:20210101T000000
END:STANDARD
END:VTIMEZONE
BEGIN:VEVENT
DTSTART;TZID=UTC:20221103T190000
DTEND;TZID=UTC:20221103T230000
DTSTAMP:20260419T215949
CREATED:20221030T101225Z
LAST-MODIFIED:20221031T172900Z
UID:2556-1667502000-1667516400@luckylizardtaphouse.com
SUMMARY:Trivia with Trivia Nation
DESCRIPTION:Trivia with Trivia Nation beginning at 7 pm! \nHappy Hour 3 pm – 6 pm
URL:https://luckylizardtaphouse.com/live-music/dj-trivia-with-trivia-nation/
LOCATION:Lucky Lizard Tap House\, 14953 #A Gulf Blvd\, Madeira Beach\, FL\, 33708\, United States
ATTACH;FMTTYPE=image/jpeg:https://luckylizardtaphouse.com/wp-content/uploads/2022/10/trivia-nation2.jpeg
END:VEVENT
BEGIN:VEVENT
DTSTART;TZID=UTC:20230518T190000
DTEND;TZID=UTC:20230518T230000
DTSTAMP:20260419T215949
CREATED:20230427T203838Z
LAST-MODIFIED:20230427T203926Z
UID:3106-1684436400-1684450800@luckylizardtaphouse.com
SUMMARY:Trivia with Trivia Nation
DESCRIPTION:Join us for Trivia at 7 pm with Trivia Nation! \nHappy Hour 3 pm – 6 pm! \nMenu 👉🏽 https://luckylizardtaphouse.com/menu/ \nDrink menu 👉🏽 https://luckylizardtaphouse.com/drinks/ \nLucky Lizard Tap House\n(727)-954-8618
URL:https://luckylizardtaphouse.com/live-music/trivia-with-trivia-nation-23/
LOCATION:Lucky Lizard Tap House\, 14953 #A Gulf Blvd\, Madeira Beach\, FL\, 33708\, United States
ATTACH;FMTTYPE=image/jpeg:https://luckylizardtaphouse.com/wp-content/uploads/2022/10/trivia-nation2.jpeg
END:VEVENT
BEGIN:VEVENT
DTSTART;TZID=UTC:20230519T190000
DTEND;TZID=UTC:20230519T230000
DTSTAMP:20260419T215949
CREATED:20230427T201357Z
LAST-MODIFIED:20230427T201357Z
UID:3065-1684522800-1684537200@luckylizardtaphouse.com
SUMMARY:Live Music with Bill Floyd
DESCRIPTION:Join us for live music w/ Bill Floyd beginning at 7 pm. \nMenu 👉🏽 https://luckylizardtaphouse.com/menu/ \nDrink menu 👉🏽 https://luckylizardtaphouse.com/drinks/ \nLucky Lizard Tap House\n(727)-954-8618
URL:https://luckylizardtaphouse.com/live-music/live-music-with-bill-floyd-11/
LOCATION:Lucky Lizard Tap House\, 14953 #A Gulf Blvd\, Madeira Beach\, FL\, 33708\, United States
ATTACH;FMTTYPE=image/jpeg:https://luckylizardtaphouse.com/wp-content/uploads/2023/04/bill-floyd-fb.jpeg
END:VEVENT
BEGIN:VEVENT
DTSTART;TZID=UTC:20230520T190000
DTEND;TZID=UTC:20230520T230000
DTSTAMP:20260419T215949
CREATED:20230427T201604Z
LAST-MODIFIED:20230427T201604Z
UID:3068-1684609200-1684623600@luckylizardtaphouse.com
SUMMARY:Live Music with Chris Dupre
DESCRIPTION:Join us for live music w/ Chris Dupre beginning at 7 pm. \nMenu 👉🏽 https://luckylizardtaphouse.com/menu/ \nDrink menu 👉🏽 https://luckylizardtaphouse.com/drinks/ \nLucky Lizard Tap House\n(727)-954-8618
URL:https://luckylizardtaphouse.com/live-music/live-music-with-chris-dupre-6/
LOCATION:Lucky Lizard Tap House\, 14953 #A Gulf Blvd\, Madeira Beach\, FL\, 33708\, United States
ATTACH;FMTTYPE=image/jpeg:https://luckylizardtaphouse.com/wp-content/uploads/2023/01/live-music-near-me-gbp-1.jpg
END:VEVENT
BEGIN:VEVENT
DTSTART;TZID=UTC:20230521T180000
DTEND;TZID=UTC:20230521T220000
DTSTAMP:20260419T215949
CREATED:20230427T201956Z
LAST-MODIFIED:20230427T201956Z
UID:3073-1684692000-1684706400@luckylizardtaphouse.com
SUMMARY:Karaoke Party
DESCRIPTION:Join us for a Karaoke Party 🎤\nMost Entertaining Performance Wins a $25 Gift Card \nDrink Specials 10 am – 2 pm\n– $6 Spicy Signature Bloody Mary 🌶🍹\n– $5 Mimosas \nMenu 👉🏽 https://luckylizardtaphouse.com/menu/ \nDrink menu 👉🏽 https://luckylizardtaphouse.com/drinks/ \nLucky Lizard Tap House\n(727)-954-8618
URL:https://luckylizardtaphouse.com/live-music/karaoke-party-33/
LOCATION:Lucky Lizard Tap House\, 14953 #A Gulf Blvd\, Madeira Beach\, FL\, 33708\, United States
ATTACH;FMTTYPE=image/png:https://luckylizardtaphouse.com/wp-content/uploads/2023/03/karaoke-party-03.png
END:VEVENT
BEGIN:VEVENT
DTSTART;TZID=UTC:20221031T110000
DTEND;TZID=UTC:20221031T235900
DTSTAMP:20260419T215949
CREATED:20221030T100151Z
LAST-MODIFIED:20221030T101521Z
UID:2545-1667214000-1667260740@luckylizardtaphouse.com
SUMMARY:Appreciation Day
DESCRIPTION:Every Monday is Appreciation Day at Lucky Lizard Tap House. We celebrate Military and  First Responders with 20% off all purchases.
URL:https://luckylizardtaphouse.com/live-music/appreciation-day/
LOCATION:Lucky Lizard Tap House\, 14953 #A Gulf Blvd\, Madeira Beach\, FL\, 33708\, United States
ATTACH;FMTTYPE=image/jpeg:https://luckylizardtaphouse.com/wp-content/uploads/2022/10/310827227_627232212289819_1616534610125952830_n.jpeg
END:VEVENT
BEGIN:VEVENT
DTSTART;TZID=UTC:20230522T190000
DTEND;TZID=UTC:20230522T230000
DTSTAMP:20260419T215949
CREATED:20230427T195526Z
LAST-MODIFIED:20230427T195526Z
UID:3044-1684782000-1684796400@luckylizardtaphouse.com
SUMMARY:Open Mic Comedy Night
DESCRIPTION:Join us for Open Mic Comedy Night\nSignup 7 pm\nShow 8 pm \nMenu 👉🏽 https://luckylizardtaphouse.com/menu/ \nDrink menu 👉🏽 https://luckylizardtaphouse.com/drinks/ \nLucky Lizard Tap House\n(727)-954-8618
URL:https://luckylizardtaphouse.com/live-music/open-mic-comedy-night-5/
LOCATION:Lucky Lizard Tap House\, 14953 #A Gulf Blvd\, Madeira Beach\, FL\, 33708\, United States
ATTACH;FMTTYPE=image/jpeg:https://luckylizardtaphouse.com/wp-content/uploads/2023/04/open-mic-comedy-night.jpg
END:VEVENT
BEGIN:VEVENT
DTSTART;TZID=UTC:20221101T110000
DTEND;TZID=UTC:20221101T235900
DTSTAMP:20260419T215949
CREATED:20221030T100624Z
LAST-MODIFIED:20221030T101435Z
UID:2549-1667300400-1667347140@luckylizardtaphouse.com
SUMMARY:Taco Tuesday
DESCRIPTION:Every Tuesday is Taco Tuesday at THE LIZARD! Taco and Margarita specials all day!
URL:https://luckylizardtaphouse.com/live-music/taco-tuesday/
LOCATION:Lucky Lizard Tap House\, 14953 #A Gulf Blvd\, Madeira Beach\, FL\, 33708\, United States
ATTACH;FMTTYPE=image/png:https://luckylizardtaphouse.com/wp-content/uploads/2022/10/taco-tuesday-06.png
END:VEVENT
BEGIN:VEVENT
DTSTART;TZID=UTC:20230523T180000
DTEND;TZID=UTC:20230523T220000
DTSTAMP:20260419T215949
CREATED:20230427T202657Z
LAST-MODIFIED:20230427T202657Z
UID:3080-1684864800-1684879200@luckylizardtaphouse.com
SUMMARY:Karaoke Party
DESCRIPTION:Join us for a Karaoke Party 🎤\nMost Entertaining Performance Wins a $25 Gift Card \nDrink Specials 10 am – 2 pm\n– $6 Spicy Signature Bloody Mary 🌶🍹\n– $5 Mimosas \nMenu 👉🏽 https://luckylizardtaphouse.com/menu/ \nDrink menu 👉🏽 https://luckylizardtaphouse.com/drinks/ \nLucky Lizard Tap House\n(727)-954-8618
URL:https://luckylizardtaphouse.com/live-music/karaoke-party-38/
LOCATION:Lucky Lizard Tap House\, 14953 #A Gulf Blvd\, Madeira Beach\, FL\, 33708\, United States
ATTACH;FMTTYPE=image/png:https://luckylizardtaphouse.com/wp-content/uploads/2023/03/karaoke-party-04.png
END:VEVENT
BEGIN:VEVENT
DTSTART;TZID=UTC:20221102T180000
DTEND;TZID=UTC:20221102T220000
DTSTAMP:20260419T215949
CREATED:20221030T100927Z
LAST-MODIFIED:20221030T100927Z
UID:2553-1667412000-1667426400@luckylizardtaphouse.com
SUMMARY:Karaoke Party
DESCRIPTION:Tonight at Lucky Lizard\, Karaoke Party 6 pm and BOGO Domestic Drafts 8 p – Close!
URL:https://luckylizardtaphouse.com/live-music/karaoke-party-3/
LOCATION:Lucky Lizard Tap House\, 14953 #A Gulf Blvd\, Madeira Beach\, FL\, 33708\, United States
ATTACH;FMTTYPE=image/jpeg:https://luckylizardtaphouse.com/wp-content/uploads/2022/04/live-music-near-me-gbp-1.jpg
END:VEVENT
BEGIN:VEVENT
DTSTART;TZID=UTC:20230524T180000
DTEND;TZID=UTC:20230524T220000
DTSTAMP:20260419T215949
CREATED:20230427T203210Z
LAST-MODIFIED:20230427T203350Z
UID:3091-1684951200-1684965600@luckylizardtaphouse.com
SUMMARY:Karaoke Party
DESCRIPTION:Join us for a Karaoke Party 🎤\nMost Entertaining Performance Wins a $25 Gift Card \nDrink Specials 10 am – 2 pm\n– $6 Spicy Signature Bloody Mary 🌶🍹\n– $5 Mimosas \nMenu 👉🏽 https://luckylizardtaphouse.com/menu/ \nDrink menu 👉🏽 https://luckylizardtaphouse.com/drinks/ \nLucky Lizard Tap House\n(727)-954-8618
URL:https://luckylizardtaphouse.com/live-music/karaoke-party-44/
LOCATION:Lucky Lizard Tap House\, 14953 #A Gulf Blvd\, Madeira Beach\, FL\, 33708\, United States
ATTACH;FMTTYPE=image/png:https://luckylizardtaphouse.com/wp-content/uploads/2023/03/karaoke-party-05.png
END:VEVENT
BEGIN:VEVENT
DTSTART;TZID=UTC:20221103T190000
DTEND;TZID=UTC:20221103T230000
DTSTAMP:20260419T215949
CREATED:20221030T101225Z
LAST-MODIFIED:20221031T172900Z
UID:2556-1667502000-1667516400@luckylizardtaphouse.com
SUMMARY:Trivia with Trivia Nation
DESCRIPTION:Trivia with Trivia Nation beginning at 7 pm! \nHappy Hour 3 pm – 6 pm
URL:https://luckylizardtaphouse.com/live-music/dj-trivia-with-trivia-nation/
LOCATION:Lucky Lizard Tap House\, 14953 #A Gulf Blvd\, Madeira Beach\, FL\, 33708\, United States
ATTACH;FMTTYPE=image/jpeg:https://luckylizardtaphouse.com/wp-content/uploads/2022/10/trivia-nation2.jpeg
END:VEVENT
BEGIN:VEVENT
DTSTART;TZID=UTC:20230525T190000
DTEND;TZID=UTC:20230525T230000
DTSTAMP:20260419T215949
CREATED:20230427T203848Z
LAST-MODIFIED:20230427T203905Z
UID:3105-1685041200-1685055600@luckylizardtaphouse.com
SUMMARY:Trivia with Trivia Nation
DESCRIPTION:Join us for Trivia at 7 pm with Trivia Nation! \nHappy Hour 3 pm – 6 pm! \nMenu 👉🏽 https://luckylizardtaphouse.com/menu/ \nDrink menu 👉🏽 https://luckylizardtaphouse.com/drinks/ \nLucky Lizard Tap House\n(727)-954-8618
URL:https://luckylizardtaphouse.com/live-music/trivia-with-trivia-nation-22/
LOCATION:Lucky Lizard Tap House\, 14953 #A Gulf Blvd\, Madeira Beach\, FL\, 33708\, United States
ATTACH;FMTTYPE=image/jpeg:https://luckylizardtaphouse.com/wp-content/uploads/2022/10/trivia-nation2.jpeg
END:VEVENT
BEGIN:VEVENT
DTSTART;TZID=UTC:20230526T190000
DTEND;TZID=UTC:20230526T230000
DTSTAMP:20260419T215949
CREATED:20230427T200713Z
LAST-MODIFIED:20230427T200713Z
UID:3059-1685127600-1685142000@luckylizardtaphouse.com
SUMMARY:Live Music with Larry "Stretch" Mott
DESCRIPTION:Join us for live music w/ Larry “Stretch” Mott beginning at 7 pm. \nMenu 👉🏽 https://luckylizardtaphouse.com/menu/ \nDrink menu 👉🏽 https://luckylizardtaphouse.com/drinks/ \nLucky Lizard Tap House\n(727)-954-8618
URL:https://luckylizardtaphouse.com/live-music/live-music-with-larry-stretch-mott-5/
LOCATION:Lucky Lizard Tap House\, 14953 #A Gulf Blvd\, Madeira Beach\, FL\, 33708\, United States
ATTACH;FMTTYPE=image/jpeg:https://luckylizardtaphouse.com/wp-content/uploads/2023/04/larry-mott-group.jpg
END:VEVENT
BEGIN:VEVENT
DTSTART;TZID=UTC:20230527T190000
DTEND;TZID=UTC:20230527T230000
DTSTAMP:20260419T215949
CREATED:20230427T200851Z
LAST-MODIFIED:20230427T200851Z
UID:3061-1685214000-1685228400@luckylizardtaphouse.com
SUMMARY:Live Music with Larry "Stretch" Mott
DESCRIPTION:Join us for live music w/ Larry “Stretch” Mott beginning at 7 pm. \nMenu 👉🏽 https://luckylizardtaphouse.com/menu/ \nDrink menu 👉🏽 https://luckylizardtaphouse.com/drinks/ \nLucky Lizard Tap House\n(727)-954-8618
URL:https://luckylizardtaphouse.com/live-music/live-music-with-larry-stretch-mott-6/
LOCATION:Lucky Lizard Tap House\, 14953 #A Gulf Blvd\, Madeira Beach\, FL\, 33708\, United States
ATTACH;FMTTYPE=image/jpeg:https://luckylizardtaphouse.com/wp-content/uploads/2023/04/larry-mott-group.jpg
END:VEVENT
BEGIN:VEVENT
DTSTART;TZID=UTC:20230528T140000
DTEND;TZID=UTC:20230528T180000
DTSTAMP:20260419T215949
CREATED:20230523T182851Z
LAST-MODIFIED:20230523T182851Z
UID:3136-1685282400-1685296800@luckylizardtaphouse.com
SUMMARY:Live Music with Bill Floyd
DESCRIPTION:Join us for live music w/ Bill Floyd beginning at 2 pm. \nMenu 👉🏽 https://luckylizardtaphouse.com/menu/ \nDrink menu 👉🏽 https://luckylizardtaphouse.com/drinks/ \nLucky Lizard Tap House \nHome \n\n(727)-954-8618 \n#livemusic #madeirabeach #madbeach #outdoorrestaurants #livemusicmadeirabeach #madbeachlivemuusic #craftbearnearme #restaurantnearme #musicnearme #madbeachevents
URL:https://luckylizardtaphouse.com/live-music/live-music-with-bill-floyd-12/
LOCATION:Lucky Lizard Tap House\, 14953 #A Gulf Blvd\, Madeira Beach\, FL\, 33708\, United States
ATTACH;FMTTYPE=image/jpeg:https://luckylizardtaphouse.com/wp-content/uploads/2023/04/bill-floyd-fb.jpeg
END:VEVENT
BEGIN:VEVENT
DTSTART;TZID=UTC:20230528T180000
DTEND;TZID=UTC:20230528T220000
DTSTAMP:20260419T215949
CREATED:20230427T202044Z
LAST-MODIFIED:20230427T202044Z
UID:3074-1685296800-1685311200@luckylizardtaphouse.com
SUMMARY:Karaoke Party
DESCRIPTION:Join us for a Karaoke Party 🎤\nMost Entertaining Performance Wins a $25 Gift Card \nDrink Specials 10 am – 2 pm\n– $6 Spicy Signature Bloody Mary 🌶🍹\n– $5 Mimosas \nMenu 👉🏽 https://luckylizardtaphouse.com/menu/ \nDrink menu 👉🏽 https://luckylizardtaphouse.com/drinks/ \nLucky Lizard Tap House\n(727)-954-8618
URL:https://luckylizardtaphouse.com/live-music/karaoke-party-34/
LOCATION:Lucky Lizard Tap House\, 14953 #A Gulf Blvd\, Madeira Beach\, FL\, 33708\, United States
ATTACH;FMTTYPE=image/png:https://luckylizardtaphouse.com/wp-content/uploads/2023/03/karaoke-party-03.png
END:VEVENT
BEGIN:VEVENT
DTSTART;TZID=UTC:20221031T110000
DTEND;TZID=UTC:20221031T235900
DTSTAMP:20260419T215949
CREATED:20221030T100151Z
LAST-MODIFIED:20221030T101521Z
UID:2545-1667214000-1667260740@luckylizardtaphouse.com
SUMMARY:Appreciation Day
DESCRIPTION:Every Monday is Appreciation Day at Lucky Lizard Tap House. We celebrate Military and  First Responders with 20% off all purchases.
URL:https://luckylizardtaphouse.com/live-music/appreciation-day/
LOCATION:Lucky Lizard Tap House\, 14953 #A Gulf Blvd\, Madeira Beach\, FL\, 33708\, United States
ATTACH;FMTTYPE=image/jpeg:https://luckylizardtaphouse.com/wp-content/uploads/2022/10/310827227_627232212289819_1616534610125952830_n.jpeg
END:VEVENT
BEGIN:VEVENT
DTSTART;TZID=UTC:20230529T190000
DTEND;TZID=UTC:20230529T230000
DTSTAMP:20260419T215949
CREATED:20230427T195843Z
LAST-MODIFIED:20230427T195859Z
UID:3048-1685386800-1685401200@luckylizardtaphouse.com
SUMMARY:Open Mic Comedy Night
DESCRIPTION:Join us for Open Mic Comedy Night\nSignup 7 pm\nShow 8 pm \nMenu 👉🏽 https://luckylizardtaphouse.com/menu/ \nDrink menu 👉🏽 https://luckylizardtaphouse.com/drinks/ \nLucky Lizard Tap House\n(727)-954-8618
URL:https://luckylizardtaphouse.com/live-music/open-mic-comedy-night-7/
LOCATION:Lucky Lizard Tap House\, 14953 #A Gulf Blvd\, Madeira Beach\, FL\, 33708\, United States
ATTACH;FMTTYPE=image/jpeg:https://luckylizardtaphouse.com/wp-content/uploads/2023/04/open-mic-comedy-night.jpg
END:VEVENT
BEGIN:VEVENT
DTSTART;TZID=UTC:20221101T110000
DTEND;TZID=UTC:20221101T235900
DTSTAMP:20260419T215949
CREATED:20221030T100624Z
LAST-MODIFIED:20221030T101435Z
UID:2549-1667300400-1667347140@luckylizardtaphouse.com
SUMMARY:Taco Tuesday
DESCRIPTION:Every Tuesday is Taco Tuesday at THE LIZARD! Taco and Margarita specials all day!
URL:https://luckylizardtaphouse.com/live-music/taco-tuesday/
LOCATION:Lucky Lizard Tap House\, 14953 #A Gulf Blvd\, Madeira Beach\, FL\, 33708\, United States
ATTACH;FMTTYPE=image/png:https://luckylizardtaphouse.com/wp-content/uploads/2022/10/taco-tuesday-06.png
END:VEVENT
BEGIN:VEVENT
DTSTART;TZID=UTC:20230530T180000
DTEND;TZID=UTC:20230530T220000
DTSTAMP:20260419T215949
CREATED:20230427T202802Z
LAST-MODIFIED:20230427T202802Z
UID:3086-1685469600-1685484000@luckylizardtaphouse.com
SUMMARY:Karaoke Party
DESCRIPTION:Join us for a Karaoke Party 🎤\nMost Entertaining Performance Wins a $25 Gift Card \nDrink Specials 10 am – 2 pm\n– $6 Spicy Signature Bloody Mary 🌶🍹\n– $5 Mimosas \nMenu 👉🏽 https://luckylizardtaphouse.com/menu/ \nDrink menu 👉🏽 https://luckylizardtaphouse.com/drinks/ \nLucky Lizard Tap House\n(727)-954-8618
URL:https://luckylizardtaphouse.com/live-music/karaoke-party-39/
LOCATION:Lucky Lizard Tap House\, 14953 #A Gulf Blvd\, Madeira Beach\, FL\, 33708\, United States
ATTACH;FMTTYPE=image/png:https://luckylizardtaphouse.com/wp-content/uploads/2023/03/karaoke-party-04.png
END:VEVENT
BEGIN:VEVENT
DTSTART;TZID=UTC:20221102T180000
DTEND;TZID=UTC:20221102T220000
DTSTAMP:20260419T215949
CREATED:20221030T100927Z
LAST-MODIFIED:20221030T100927Z
UID:2553-1667412000-1667426400@luckylizardtaphouse.com
SUMMARY:Karaoke Party
DESCRIPTION:Tonight at Lucky Lizard\, Karaoke Party 6 pm and BOGO Domestic Drafts 8 p – Close!
URL:https://luckylizardtaphouse.com/live-music/karaoke-party-3/
LOCATION:Lucky Lizard Tap House\, 14953 #A Gulf Blvd\, Madeira Beach\, FL\, 33708\, United States
ATTACH;FMTTYPE=image/jpeg:https://luckylizardtaphouse.com/wp-content/uploads/2022/04/live-music-near-me-gbp-1.jpg
END:VEVENT
BEGIN:VEVENT
DTSTART;TZID=UTC:20230531T180000
DTEND;TZID=UTC:20230531T220000
DTSTAMP:20260419T215949
CREATED:20230427T203221Z
LAST-MODIFIED:20230427T203247Z
UID:3090-1685556000-1685570400@luckylizardtaphouse.com
SUMMARY:Karaoke Party
DESCRIPTION:Join us for a Karaoke Party 🎤\nMost Entertaining Performance Wins a $25 Gift Card \nDrink Specials 10 am – 2 pm\n– $6 Spicy Signature Bloody Mary 🌶🍹\n– $5 Mimosas \nMenu 👉🏽 https://luckylizardtaphouse.com/menu/ \nDrink menu 👉🏽 https://luckylizardtaphouse.com/drinks/ \nLucky Lizard Tap House\n(727)-954-8618
URL:https://luckylizardtaphouse.com/live-music/karaoke-party-41/
LOCATION:Lucky Lizard Tap House\, 14953 #A Gulf Blvd\, Madeira Beach\, FL\, 33708\, United States
ATTACH;FMTTYPE=image/png:https://luckylizardtaphouse.com/wp-content/uploads/2023/03/karaoke-party-05.png
END:VEVENT
BEGIN:VEVENT
DTSTART;TZID=UTC:20230601T190000
DTEND;TZID=UTC:20230601T220000
DTSTAMP:20260419T215949
CREATED:20230531T155444Z
LAST-MODIFIED:20230531T155444Z
UID:3143-1685646000-1685656800@luckylizardtaphouse.com
SUMMARY:Trivia with Trivia Nation
DESCRIPTION:Join us for Trivia at 7 pm with Trivia Nation! \nHappy Hour 3 pm – 6 pm! \nMenu 👉🏽 https://luckylizardtaphouse.com/menu/ \nDrink menu 👉🏽 https://luckylizardtaphouse.com/drinks/ \nLucky Lizard Tap House\n(727)-954-8618
URL:https://luckylizardtaphouse.com/live-music/trivia-with-trivia-nation-24/
LOCATION:Lucky Lizard Tap House\, 14953 #A Gulf Blvd\, Madeira Beach\, FL\, 33708\, United States
ATTACH;FMTTYPE=image/jpeg:https://luckylizardtaphouse.com/wp-content/uploads/2023/03/trivia-nation2.jpeg
END:VEVENT
BEGIN:VEVENT
DTSTART;TZID=UTC:20221103T190000
DTEND;TZID=UTC:20221103T230000
DTSTAMP:20260419T215949
CREATED:20221030T101225Z
LAST-MODIFIED:20221031T172900Z
UID:2556-1667502000-1667516400@luckylizardtaphouse.com
SUMMARY:Trivia with Trivia Nation
DESCRIPTION:Trivia with Trivia Nation beginning at 7 pm! \nHappy Hour 3 pm – 6 pm
URL:https://luckylizardtaphouse.com/live-music/dj-trivia-with-trivia-nation/
LOCATION:Lucky Lizard Tap House\, 14953 #A Gulf Blvd\, Madeira Beach\, FL\, 33708\, United States
ATTACH;FMTTYPE=image/jpeg:https://luckylizardtaphouse.com/wp-content/uploads/2022/10/trivia-nation2.jpeg
END:VEVENT
BEGIN:VEVENT
DTSTART;TZID=UTC:20230602T190000
DTEND;TZID=UTC:20230602T230000
DTSTAMP:20260419T215949
CREATED:20230531T155631Z
LAST-MODIFIED:20230531T155631Z
UID:3146-1685732400-1685746800@luckylizardtaphouse.com
SUMMARY:Live Music with Mitch Patti
DESCRIPTION:Join us for live music w/ Mitch Patti beginning at 7 pm. \nMenu 👉🏽 https://luckylizardtaphouse.com/menu/ \nDrink menu 👉🏽 https://luckylizardtaphouse.com/drinks/ \nLucky Lizard Tap House \nHome \n\n(727)-954-8618
URL:https://luckylizardtaphouse.com/live-music/live-music-with-mitch-patti-3/
LOCATION:Lucky Lizard Tap House\, 14953 #A Gulf Blvd\, Madeira Beach\, FL\, 33708\, United States
ATTACH;FMTTYPE=image/jpeg:https://luckylizardtaphouse.com/wp-content/uploads/2022/01/mitch-patti-music.jpeg
END:VEVENT
BEGIN:VEVENT
DTSTART;TZID=UTC:20230603T180000
DTEND;TZID=UTC:20230603T220000
DTSTAMP:20260419T215949
CREATED:20230531T160219Z
LAST-MODIFIED:20230531T160219Z
UID:3148-1685815200-1685829600@luckylizardtaphouse.com
SUMMARY:Live Music with Louie
DESCRIPTION:Join us for live music w/ Louie beginning at 6 pm. \nMenu 👉🏽 https://luckylizardtaphouse.com/menu/ \nDrink menu 👉🏽 https://luckylizardtaphouse.com/drinks/ \nLucky Lizard Tap House \nHome \n\n(727)-954-8618
URL:https://luckylizardtaphouse.com/live-music/live-music-with-louie-6/
LOCATION:Lucky Lizard Tap House\, 14953 #A Gulf Blvd\, Madeira Beach\, FL\, 33708\, United States
ATTACH;FMTTYPE=image/png:https://luckylizardtaphouse.com/wp-content/uploads/2023/01/llm.png
END:VEVENT
BEGIN:VEVENT
DTSTART;TZID=UTC:20230604T180000
DTEND;TZID=UTC:20230604T220000
DTSTAMP:20260419T215949
CREATED:20230531T160502Z
LAST-MODIFIED:20230531T160502Z
UID:3150-1685901600-1685916000@luckylizardtaphouse.com
SUMMARY:Karaoke Party
DESCRIPTION:Join us for a Karaoke Party 🎤\nMost Entertaining Performance Wins a $25 Gift Card \nSunday Drink Specials 10 am – 2 pm\n– $6 Spicy Signature Bloody Mary 🌶🍹\n– $5 Mimosas \n*Drink specials may vary. Inquire within. \nOur Menu 🌮 \nMENU \n \nLucky Lizard Tap House\n(727)-954-8618
URL:https://luckylizardtaphouse.com/live-music/karaoke-party-45/
LOCATION:Lucky Lizard Tap House\, 14953 #A Gulf Blvd\, Madeira Beach\, FL\, 33708\, United States
ATTACH;FMTTYPE=image/png:https://luckylizardtaphouse.com/wp-content/uploads/2023/03/karaoke-party-07.png
END:VEVENT
BEGIN:VEVENT
DTSTART;TZID=UTC:20221031T110000
DTEND;TZID=UTC:20221031T235900
DTSTAMP:20260419T215949
CREATED:20221030T100151Z
LAST-MODIFIED:20221030T101521Z
UID:2545-1667214000-1667260740@luckylizardtaphouse.com
SUMMARY:Appreciation Day
DESCRIPTION:Every Monday is Appreciation Day at Lucky Lizard Tap House. We celebrate Military and  First Responders with 20% off all purchases.
URL:https://luckylizardtaphouse.com/live-music/appreciation-day/
LOCATION:Lucky Lizard Tap House\, 14953 #A Gulf Blvd\, Madeira Beach\, FL\, 33708\, United States
ATTACH;FMTTYPE=image/jpeg:https://luckylizardtaphouse.com/wp-content/uploads/2022/10/310827227_627232212289819_1616534610125952830_n.jpeg
END:VEVENT
BEGIN:VEVENT
DTSTART;TZID=UTC:20221101T110000
DTEND;TZID=UTC:20221101T235900
DTSTAMP:20260419T215949
CREATED:20221030T100624Z
LAST-MODIFIED:20221030T101435Z
UID:2549-1667300400-1667347140@luckylizardtaphouse.com
SUMMARY:Taco Tuesday
DESCRIPTION:Every Tuesday is Taco Tuesday at THE LIZARD! Taco and Margarita specials all day!
URL:https://luckylizardtaphouse.com/live-music/taco-tuesday/
LOCATION:Lucky Lizard Tap House\, 14953 #A Gulf Blvd\, Madeira Beach\, FL\, 33708\, United States
ATTACH;FMTTYPE=image/png:https://luckylizardtaphouse.com/wp-content/uploads/2022/10/taco-tuesday-06.png
END:VEVENT
END:VCALENDAR