BEGIN:VCALENDAR
VERSION:2.0
PRODID:-//Lucky Lizard Tap House - ECPv6.15.18//NONSGML v1.0//EN
CALSCALE:GREGORIAN
METHOD:PUBLISH
X-ORIGINAL-URL:https://luckylizardtaphouse.com
X-WR-CALDESC:Events for Lucky Lizard Tap House
REFRESH-INTERVAL;VALUE=DURATION:PT1H
X-Robots-Tag:noindex
X-PUBLISHED-TTL:PT1H
BEGIN:VTIMEZONE
TZID:UTC
BEGIN:STANDARD
TZOFFSETFROM:+0000
TZOFFSETTO:+0000
TZNAME:UTC
DTSTART:20220101T000000
END:STANDARD
END:VTIMEZONE
BEGIN:VEVENT
DTSTART;TZID=UTC:20230707T190000
DTEND;TZID=UTC:20230707T220000
DTSTAMP:20260420T011329
CREATED:20230627T194513Z
LAST-MODIFIED:20230627T194513Z
UID:3214-1688756400-1688767200@luckylizardtaphouse.com
SUMMARY:Karaoke Party
DESCRIPTION:Join us for a Karaoke Party beginning at 7:30 pm. \nMenu 👉🏽 https://luckylizardtaphouse.com/menu/ \nDrink menu 👉🏽 https://luckylizardtaphouse.com/drinks/ \nLucky Lizard Tap House\n(727)-954-8618
URL:https://luckylizardtaphouse.com/live-music/karaoke-party-63/
LOCATION:Lucky Lizard Tap House\, 14953 #A Gulf Blvd\, Madeira Beach\, FL\, 33708\, United States
ATTACH;FMTTYPE=image/png:https://luckylizardtaphouse.com/wp-content/uploads/2023/03/karaoke-party-03.png
END:VEVENT
END:VCALENDAR