BEGIN:VCALENDAR
VERSION:2.0
PRODID:-//Lucky Lizard Tap House - ECPv6.15.18//NONSGML v1.0//EN
CALSCALE:GREGORIAN
METHOD:PUBLISH
X-WR-CALNAME:Lucky Lizard Tap House
X-ORIGINAL-URL:https://luckylizardtaphouse.com
X-WR-CALDESC:Events for Lucky Lizard Tap House
REFRESH-INTERVAL;VALUE=DURATION:PT1H
X-Robots-Tag:noindex
X-PUBLISHED-TTL:PT1H
BEGIN:VTIMEZONE
TZID:UTC
BEGIN:STANDARD
TZOFFSETFROM:+0000
TZOFFSETTO:+0000
TZNAME:UTC
DTSTART:20220101T000000
END:STANDARD
END:VTIMEZONE
BEGIN:VEVENT
DTSTART;TZID=UTC:20230630T190000
DTEND;TZID=UTC:20230630T230000
DTSTAMP:20260420T011220
CREATED:20230531T163358Z
LAST-MODIFIED:20230531T163358Z
UID:3182-1688151600-1688166000@luckylizardtaphouse.com
SUMMARY:Live Music with Larry Mott
DESCRIPTION:Join us for live music with Larry “Stretch” Mott beginning at 7 pm. \nMenu 👉🏽 https://luckylizardtaphouse.com/menu/ \nDrink menu 👉🏽 https://luckylizardtaphouse.com/drinks/ \nLucky Lizard Tap House \nHome \n\n(727)-954-8618
URL:https://luckylizardtaphouse.com/live-music/live-music-with-larry-mott-33/
LOCATION:Lucky Lizard Tap House\, 14953 #A Gulf Blvd\, Madeira Beach\, FL\, 33708\, United States
ATTACH;FMTTYPE=image/jpeg:https://luckylizardtaphouse.com/wp-content/uploads/2023/01/larry-mott-ig.jpg
END:VEVENT
END:VCALENDAR